BEGIN:VCALENDAR
VERSION:2.0
PRODID:-//Schützenbruderschaft St. Heinrich Ellenstedt e.V. - ECPv6.15.13//NONSGML v1.0//EN
CALSCALE:GREGORIAN
METHOD:PUBLISH
X-WR-CALNAME:Schützenbruderschaft St. Heinrich Ellenstedt e.V.
X-ORIGINAL-URL:https://www.schuetzenbruderschaft-ellenstedt.de
X-WR-CALDESC:Veranstaltungen für Schützenbruderschaft St. Heinrich Ellenstedt e.V.
REFRESH-INTERVAL;VALUE=DURATION:PT1H
X-Robots-Tag:noindex
X-PUBLISHED-TTL:PT1H
BEGIN:VTIMEZONE
TZID:Europe/Berlin
BEGIN:DAYLIGHT
TZOFFSETFROM:+0100
TZOFFSETTO:+0200
TZNAME:CEST
DTSTART:20250330T010000
END:DAYLIGHT
BEGIN:STANDARD
TZOFFSETFROM:+0200
TZOFFSETTO:+0100
TZNAME:CET
DTSTART:20251026T010000
END:STANDARD
BEGIN:DAYLIGHT
TZOFFSETFROM:+0100
TZOFFSETTO:+0200
TZNAME:CEST
DTSTART:20260329T010000
END:DAYLIGHT
BEGIN:STANDARD
TZOFFSETFROM:+0200
TZOFFSETTO:+0100
TZNAME:CET
DTSTART:20261025T010000
END:STANDARD
BEGIN:DAYLIGHT
TZOFFSETFROM:+0100
TZOFFSETTO:+0200
TZNAME:CEST
DTSTART:20270328T010000
END:DAYLIGHT
BEGIN:STANDARD
TZOFFSETFROM:+0200
TZOFFSETTO:+0100
TZNAME:CET
DTSTART:20271031T010000
END:STANDARD
END:VTIMEZONE
BEGIN:VEVENT
DTSTART;TZID=Europe/Berlin:20260607T160000
DTEND;TZID=Europe/Berlin:20260607T160000
DTSTAMP:20260425T173432
CREATED:20260315T194535Z
LAST-MODIFIED:20260315T194535Z
UID:3923-1780848000-1780848000@www.schuetzenbruderschaft-ellenstedt.de
SUMMARY:Schnurschießen
DESCRIPTION:Das diesjährige Schnurschießen findet am 7. und am 11. Juni ab 16 Uhr bzw. 19 Uhr statt.\nAllen Teilnehmern wünschen wir viel Erfolg und GUT SCHUSS.
URL:https://www.schuetzenbruderschaft-ellenstedt.de/event/schnurschiessen-4-2/
LOCATION:Sportcenter Ellenstedt\, Am Schützenpl. 6B\, Ellenstedt\, Niedersachsen\, 49424\, Deutschland
CATEGORIES:Termin
ATTACH;FMTTYPE=image/jpeg:https://www.schuetzenbruderschaft-ellenstedt.de/wp-content/uploads/2017/01/Schnur3-1-e1496356572144.jpg
END:VEVENT
BEGIN:VEVENT
DTSTART;VALUE=DATE:20260613
DTEND;VALUE=DATE:20260614
DTSTAMP:20260425T173432
CREATED:20260315T194843Z
LAST-MODIFIED:20260315T194843Z
UID:3926-1781308800-1781395199@www.schuetzenbruderschaft-ellenstedt.de
SUMMARY:Königsschießen
DESCRIPTION:
URL:https://www.schuetzenbruderschaft-ellenstedt.de/event/koenigsschiessen-4-2/
LOCATION:Sportcenter Ellenstedt\, Am Schützenpl. 6B\, Ellenstedt\, Niedersachsen\, 49424\, Deutschland
CATEGORIES:Termin
ATTACH;FMTTYPE=image/jpeg:https://www.schuetzenbruderschaft-ellenstedt.de/wp-content/uploads/2015/05/DSC_1367-e1496355300248.jpg
END:VEVENT
END:VCALENDAR