BEGIN:VCALENDAR
VERSION:2.0
PRODID:-//Schützenbruderschaft St. Heinrich Ellenstedt e.V. - ECPv6.15.13//NONSGML v1.0//EN
CALSCALE:GREGORIAN
METHOD:PUBLISH
X-ORIGINAL-URL:https://www.schuetzenbruderschaft-ellenstedt.de
X-WR-CALDESC:Veranstaltungen für Schützenbruderschaft St. Heinrich Ellenstedt e.V.
REFRESH-INTERVAL;VALUE=DURATION:PT1H
X-Robots-Tag:noindex
X-PUBLISHED-TTL:PT1H
BEGIN:VTIMEZONE
TZID:Europe/Berlin
BEGIN:DAYLIGHT
TZOFFSETFROM:+0100
TZOFFSETTO:+0200
TZNAME:CEST
DTSTART:20250330T010000
END:DAYLIGHT
BEGIN:STANDARD
TZOFFSETFROM:+0200
TZOFFSETTO:+0100
TZNAME:CET
DTSTART:20251026T010000
END:STANDARD
BEGIN:DAYLIGHT
TZOFFSETFROM:+0100
TZOFFSETTO:+0200
TZNAME:CEST
DTSTART:20260329T010000
END:DAYLIGHT
BEGIN:STANDARD
TZOFFSETFROM:+0200
TZOFFSETTO:+0100
TZNAME:CET
DTSTART:20261025T010000
END:STANDARD
BEGIN:DAYLIGHT
TZOFFSETFROM:+0100
TZOFFSETTO:+0200
TZNAME:CEST
DTSTART:20270328T010000
END:DAYLIGHT
BEGIN:STANDARD
TZOFFSETFROM:+0200
TZOFFSETTO:+0100
TZNAME:CET
DTSTART:20271031T010000
END:STANDARD
END:VTIMEZONE
BEGIN:VEVENT
DTSTART;VALUE=DATE:20260308
DTEND;VALUE=DATE:20260309
DTSTAMP:20260425T144930
CREATED:20260104T184310Z
LAST-MODIFIED:20260104T184310Z
UID:3839-1772928000-1773014399@www.schuetzenbruderschaft-ellenstedt.de
SUMMARY:Friedensgottesdienst
DESCRIPTION:
URL:https://www.schuetzenbruderschaft-ellenstedt.de/event/friedensgottesdienst-4-2/
LOCATION:Niedersachsen
CATEGORIES:Termin
ATTACH;FMTTYPE=image/jpeg:https://www.schuetzenbruderschaft-ellenstedt.de/wp-content/uploads/2016/11/Kirche.jpg
END:VEVENT
BEGIN:VEVENT
DTSTART;VALUE=DATE:20260314
DTEND;VALUE=DATE:20260315
DTSTAMP:20260425T144930
CREATED:20260104T184420Z
LAST-MODIFIED:20260104T202757Z
UID:3843-1773446400-1773532799@www.schuetzenbruderschaft-ellenstedt.de
SUMMARY:Nordpokalschießen in Arkeburg
DESCRIPTION:Das Nordpokalschießen findet am 14.03.26 in Arkeburg statt.
URL:https://www.schuetzenbruderschaft-ellenstedt.de/event/nordpokalschiessen-in-lutten-2/
LOCATION:Schießstand Arkeburg\, Arkeburg\, Deutschland
CATEGORIES:Termin
ATTACH;FMTTYPE=image/jpeg:https://www.schuetzenbruderschaft-ellenstedt.de/wp-content/uploads/2017/01/medaille.jpg
END:VEVENT
END:VCALENDAR