BEGIN:VCALENDAR
VERSION:2.0
PRODID:-//Schützenbruderschaft St. Heinrich Ellenstedt e.V. - ECPv6.15.13//NONSGML v1.0//EN
CALSCALE:GREGORIAN
METHOD:PUBLISH
X-WR-CALNAME:Schützenbruderschaft St. Heinrich Ellenstedt e.V.
X-ORIGINAL-URL:https://www.schuetzenbruderschaft-ellenstedt.de
X-WR-CALDESC:Veranstaltungen für Schützenbruderschaft St. Heinrich Ellenstedt e.V.
REFRESH-INTERVAL;VALUE=DURATION:PT1H
X-Robots-Tag:noindex
X-PUBLISHED-TTL:PT1H
BEGIN:VTIMEZONE
TZID:Europe/Berlin
BEGIN:DAYLIGHT
TZOFFSETFROM:+0100
TZOFFSETTO:+0200
TZNAME:CEST
DTSTART:20250330T010000
END:DAYLIGHT
BEGIN:STANDARD
TZOFFSETFROM:+0200
TZOFFSETTO:+0100
TZNAME:CET
DTSTART:20251026T010000
END:STANDARD
BEGIN:DAYLIGHT
TZOFFSETFROM:+0100
TZOFFSETTO:+0200
TZNAME:CEST
DTSTART:20260329T010000
END:DAYLIGHT
BEGIN:STANDARD
TZOFFSETFROM:+0200
TZOFFSETTO:+0100
TZNAME:CET
DTSTART:20261025T010000
END:STANDARD
BEGIN:DAYLIGHT
TZOFFSETFROM:+0100
TZOFFSETTO:+0200
TZNAME:CEST
DTSTART:20270328T010000
END:DAYLIGHT
BEGIN:STANDARD
TZOFFSETFROM:+0200
TZOFFSETTO:+0100
TZNAME:CET
DTSTART:20271031T010000
END:STANDARD
END:VTIMEZONE
BEGIN:VEVENT
DTSTART;TZID=Europe/Berlin:20260103T193000
DTEND;TZID=Europe/Berlin:20260103T193000
DTSTAMP:20260425T173356
CREATED:20251027T224026Z
LAST-MODIFIED:20251027T224026Z
UID:3774-1767468600-1767468600@www.schuetzenbruderschaft-ellenstedt.de
SUMMARY:Generalversammlung
DESCRIPTION:78. Generalversammlung  \nam Samstag\, 3. Januar 2026\, Beginn 19:30
URL:https://www.schuetzenbruderschaft-ellenstedt.de/event/generalversammlung-10/
LOCATION:Sportcenter Ellenstedt\, Am Schützenpl. 6B\, Ellenstedt\, Niedersachsen\, 49424\, Deutschland
CATEGORIES:Termin
ATTACH;FMTTYPE=image/jpeg:https://www.schuetzenbruderschaft-ellenstedt.de/wp-content/uploads/2016/11/Generalversammlung2.jpg
END:VEVENT
BEGIN:VEVENT
DTSTART;TZID=Europe/Berlin:20260117T183000
DTEND;TZID=Europe/Berlin:20260117T183000
DTSTAMP:20260425T173356
CREATED:20260104T134125Z
LAST-MODIFIED:20260104T134139Z
UID:3807-1768674600-1768674600@www.schuetzenbruderschaft-ellenstedt.de
SUMMARY:Schützenmesse
DESCRIPTION:Die Schützenmesse findet am Sonntag\, 17.01.26 statt. Antreten der Schützenbrüder und Schützenschwestern bitte in Uniform. Der Vorstand freut sich auf eine rege Teilnahme.
URL:https://www.schuetzenbruderschaft-ellenstedt.de/event/schuetzenmesse-14/
LOCATION:Kirche Ellenstedt\, Ellenstedt\, 49424
CATEGORIES:Termin
ATTACH;FMTTYPE=image/jpeg:https://www.schuetzenbruderschaft-ellenstedt.de/wp-content/uploads/2016/11/Kirche.jpg
END:VEVENT
BEGIN:VEVENT
DTSTART;TZID=Europe/Berlin:20260124T193000
DTEND;TZID=Europe/Berlin:20260124T193000
DTSTAMP:20260425T173356
CREATED:20251027T224553Z
LAST-MODIFIED:20251027T224553Z
UID:3778-1769283000-1769283000@www.schuetzenbruderschaft-ellenstedt.de
SUMMARY:Schützenball Ellenstedt
DESCRIPTION:
URL:https://www.schuetzenbruderschaft-ellenstedt.de/event/schuetzenball-ellenstedt/
LOCATION:Sportcenter Ellenstedt\, Am Schützenpl. 6B\, Ellenstedt\, Niedersachsen\, 49424\, Deutschland
CATEGORIES:Termin
ATTACH;FMTTYPE=image/jpeg:https://www.schuetzenbruderschaft-ellenstedt.de/wp-content/uploads/2025/10/Schuetzenball-2026.jpg
END:VEVENT
END:VCALENDAR