BEGIN:VCALENDAR
VERSION:2.0
PRODID:-//Schützenbruderschaft St. Heinrich Ellenstedt e.V. - ECPv6.15.13//NONSGML v1.0//EN
CALSCALE:GREGORIAN
METHOD:PUBLISH
X-WR-CALNAME:Schützenbruderschaft St. Heinrich Ellenstedt e.V.
X-ORIGINAL-URL:https://www.schuetzenbruderschaft-ellenstedt.de
X-WR-CALDESC:Veranstaltungen für Schützenbruderschaft St. Heinrich Ellenstedt e.V.
REFRESH-INTERVAL;VALUE=DURATION:PT1H
X-Robots-Tag:noindex
X-PUBLISHED-TTL:PT1H
BEGIN:VTIMEZONE
TZID:Europe/Berlin
BEGIN:DAYLIGHT
TZOFFSETFROM:+0100
TZOFFSETTO:+0200
TZNAME:CEST
DTSTART:20240331T010000
END:DAYLIGHT
BEGIN:STANDARD
TZOFFSETFROM:+0200
TZOFFSETTO:+0100
TZNAME:CET
DTSTART:20241027T010000
END:STANDARD
BEGIN:DAYLIGHT
TZOFFSETFROM:+0100
TZOFFSETTO:+0200
TZNAME:CEST
DTSTART:20250330T010000
END:DAYLIGHT
BEGIN:STANDARD
TZOFFSETFROM:+0200
TZOFFSETTO:+0100
TZNAME:CET
DTSTART:20251026T010000
END:STANDARD
BEGIN:DAYLIGHT
TZOFFSETFROM:+0100
TZOFFSETTO:+0200
TZNAME:CEST
DTSTART:20260329T010000
END:DAYLIGHT
BEGIN:STANDARD
TZOFFSETFROM:+0200
TZOFFSETTO:+0100
TZNAME:CET
DTSTART:20261025T010000
END:STANDARD
END:VTIMEZONE
BEGIN:VEVENT
DTSTART;TZID=Europe/Berlin:20250605T160000
DTEND;TZID=Europe/Berlin:20250605T160000
DTSTAMP:20260426T032455
CREATED:20250601T185338Z
LAST-MODIFIED:20250601T185353Z
UID:3523-1749139200-1749139200@www.schuetzenbruderschaft-ellenstedt.de
SUMMARY:Schnurschießen
DESCRIPTION:Das diesjährige Schnurschießen findet am 1. und am 5. Juni ab 16 Uhr statt.\nAllen Teilnehmern wünschen wir viel Erfolg und GUT SCHUSS.
URL:https://www.schuetzenbruderschaft-ellenstedt.de/event/schnurschiessen-4/
LOCATION:Niedersachsen
CATEGORIES:Termin
ATTACH;FMTTYPE=image/jpeg:https://www.schuetzenbruderschaft-ellenstedt.de/wp-content/uploads/2017/01/Schnur3-1-e1496356572144.jpg
END:VEVENT
BEGIN:VEVENT
DTSTART;VALUE=DATE:20250614
DTEND;VALUE=DATE:20250615
DTSTAMP:20260426T032455
CREATED:20250601T185533Z
LAST-MODIFIED:20250601T185533Z
UID:3527-1749859200-1749945599@www.schuetzenbruderschaft-ellenstedt.de
SUMMARY:Königsschießen
DESCRIPTION:
URL:https://www.schuetzenbruderschaft-ellenstedt.de/event/koenigsschiessen-4/
LOCATION:Niedersachsen
CATEGORIES:Termin
ATTACH;FMTTYPE=image/jpeg:https://www.schuetzenbruderschaft-ellenstedt.de/wp-content/uploads/2015/05/DSC_1367-e1496355300248.jpg
END:VEVENT
BEGIN:VEVENT
DTSTART;VALUE=DATE:20250622
DTEND;VALUE=DATE:20250623
DTSTAMP:20260426T032455
CREATED:20250601T185726Z
LAST-MODIFIED:20250601T185840Z
UID:3530-1750550400-1750636799@www.schuetzenbruderschaft-ellenstedt.de
SUMMARY:Kaiserschießen
DESCRIPTION:
URL:https://www.schuetzenbruderschaft-ellenstedt.de/event/kaiserschiessen/
LOCATION:Niedersachsen
CATEGORIES:Termin
ATTACH;FMTTYPE=image/jpeg:https://www.schuetzenbruderschaft-ellenstedt.de/wp-content/uploads/2021/10/Ellenstedt-Kaiserschiessen_3.jpg
END:VEVENT
BEGIN:VEVENT
DTSTART;VALUE=DATE:20250628
DTEND;VALUE=DATE:20250629
DTSTAMP:20260426T032455
CREATED:20250622T215008Z
LAST-MODIFIED:20250622T215008Z
UID:3646-1751068800-1751155199@www.schuetzenbruderschaft-ellenstedt.de
SUMMARY:Kompaniefest der I. Kompanie
DESCRIPTION:
URL:https://www.schuetzenbruderschaft-ellenstedt.de/event/kompaniefest-der-i-kompanie/
LOCATION:Niedersachsen
CATEGORIES:Termin
ATTACH;FMTTYPE=image/jpeg:https://www.schuetzenbruderschaft-ellenstedt.de/wp-content/uploads/2017/04/Fahrradtour.jpg
END:VEVENT
END:VCALENDAR